Package: GSReg Version: 1.44.0 Command: rm -rf GSReg.buildbin-libdir && mkdir GSReg.buildbin-libdir && /Users/biocbuild/BBS/utils/build-universal.sh GSReg_1.44.0.tar.gz /Library/Frameworks/R.framework/Resources/bin/R GSReg.buildbin-libdir StartedAt: 2025-11-23 09:03:26 -0500 (Sun, 23 Nov 2025) EndedAt: 2025-11-23 09:04:36 -0500 (Sun, 23 Nov 2025) EllapsedTime: 70.0 seconds RetCode: 0 Status: OK PackageFile: GSReg_1.44.0.tgz PackageFileSize: 385 KiB