Package: GSRI Version: 2.58.0 Command: /home/biocbuild/bbs-3.22-bioc/R/bin/R CMD build --keep-empty-dirs --no-resave-data --md5 GSRI StartedAt: 2025-11-11 18:06:52 -0500 (Tue, 11 Nov 2025) EndedAt: 2025-11-11 18:07:34 -0500 (Tue, 11 Nov 2025) EllapsedTime: 42.1 seconds RetCode: 0 Status: OK PackageFile: GSRI_2.58.0.tar.gz PackageFileSize: 339.4 KiB