Package: GSRI Version: 2.56.0 Command: /home/biocbuild/R/R/bin/R CMD INSTALL GSRI StartedAt: 2025-10-13 20:46:05 -0000 (Mon, 13 Oct 2025) EndedAt: 2025-10-13 20:46:33 -0000 (Mon, 13 Oct 2025) EllapsedTime: 28.0 seconds RetCode: 0 Status: OK