Package: GSRI Version: 2.56.0 Command: /home/biocbuild/R/R/bin/R CMD build --keep-empty-dirs --no-resave-data GSRI StartedAt: 2025-10-14 01:31:15 -0000 (Tue, 14 Oct 2025) EndedAt: 2025-10-14 01:32:05 -0000 (Tue, 14 Oct 2025) EllapsedTime: 50.0 seconds RetCode: 0 Status: OK PackageFile: GSRI_2.56.0.tar.gz PackageFileSize: 324.9 KiB