Package: GSRI Version: 2.58.0 Command: /Library/Frameworks/R.framework/Resources/bin/R CMD INSTALL GSRI StartedAt: 2025-10-30 15:09:54 -0400 (Thu, 30 Oct 2025) EndedAt: 2025-10-30 15:10:04 -0400 (Thu, 30 Oct 2025) EllapsedTime: 9.4 seconds RetCode: 0 Status: OK