Package: GSRI Version: 2.58.0 Command: /Library/Frameworks/R.framework/Resources/bin/R CMD build --keep-empty-dirs --no-resave-data GSRI StartedAt: 2025-10-30 16:38:08 -0400 (Thu, 30 Oct 2025) EndedAt: 2025-10-30 16:38:28 -0400 (Thu, 30 Oct 2025) EllapsedTime: 20.3 seconds RetCode: 0 Status: OK PackageFile: GSRI_2.58.0.tar.gz PackageFileSize: 339.3 KiB