Package: GSRI Version: 2.58.0 Command: rm -rf GSRI.buildbin-libdir && mkdir GSRI.buildbin-libdir && /Users/biocbuild/BBS/utils/build-universal.sh GSRI_2.58.0.tar.gz /Library/Frameworks/R.framework/Resources/bin/R GSRI.buildbin-libdir StartedAt: 2025-10-30 23:03:17 -0400 (Thu, 30 Oct 2025) EndedAt: 2025-10-30 23:03:26 -0400 (Thu, 30 Oct 2025) EllapsedTime: 9.2 seconds RetCode: 0 Status: OK PackageFile: GSRI_2.58.0.tgz PackageFileSize: 674.2 KiB