Package: GSEAmining Version: 1.20.0 Command: /home/biocbuild/bbs-3.22-bioc/R/bin/R CMD INSTALL GSEAmining StartedAt: 2025-11-11 15:15:11 -0500 (Tue, 11 Nov 2025) EndedAt: 2025-11-11 15:15:21 -0500 (Tue, 11 Nov 2025) EllapsedTime: 10.0 seconds RetCode: 0 Status: OK