Package: GSEAmining Version: 1.20.0 Command: /home/biocbuild/bbs-3.22-bioc/R/bin/R CMD check --install=check:GSEAmining.install-out.txt --library=/home/biocbuild/bbs-3.22-bioc/R/site-library --timings GSEAmining_1.20.0.tar.gz StartedAt: 2025-11-14 00:25:15 -0500 (Fri, 14 Nov 2025) EndedAt: 2025-11-14 00:27:52 -0500 (Fri, 14 Nov 2025) EllapsedTime: 157.2 seconds RetCode: 0 Status: OK CheckDir: GSEAmining.Rcheck Warnings: 0