Package: GSEAmining Version: 1.20.0 Command: /home/biocbuild/bbs-3.22-bioc/R/bin/R CMD build --keep-empty-dirs --no-resave-data --md5 GSEAmining StartedAt: 2025-11-11 18:06:13 -0500 (Tue, 11 Nov 2025) EndedAt: 2025-11-11 18:07:07 -0500 (Tue, 11 Nov 2025) EllapsedTime: 54.0 seconds RetCode: 0 Status: OK PackageFile: GSEAmining_1.20.0.tar.gz PackageFileSize: 2.814 MiB