Package: GSEAmining Version: 1.18.0 Command: /Library/Frameworks/R.framework/Resources/bin/R CMD INSTALL GSEAmining StartedAt: 2025-04-21 15:11:08 -0400 (Mon, 21 Apr 2025) EndedAt: 2025-04-21 15:11:38 -0400 (Mon, 21 Apr 2025) EllapsedTime: 30.0 seconds RetCode: 0 Status: OK