Package: GSEAmining Version: 1.18.0 Command: /Library/Frameworks/R.framework/Resources/bin/R CMD build --keep-empty-dirs --no-resave-data GSEAmining StartedAt: 2025-04-21 17:02:13 -0400 (Mon, 21 Apr 2025) EndedAt: 2025-04-21 17:03:07 -0400 (Mon, 21 Apr 2025) EllapsedTime: 54.5 seconds RetCode: 0 Status: OK PackageFile: GSEAmining_1.18.0.tar.gz PackageFileSize: 2.84 MiB