Package: GSEAmining Version: 1.18.0 Command: /home/biocbuild/R/R/bin/R CMD INSTALL GSEAmining StartedAt: 2025-10-02 20:22:30 -0000 (Thu, 02 Oct 2025) EndedAt: 2025-10-02 20:22:45 -0000 (Thu, 02 Oct 2025) EllapsedTime: 14.7 seconds RetCode: 0 Status: OK