Package: GSEAmining Version: 1.18.0 Command: /home/biocbuild/R/R/bin/R CMD build --keep-empty-dirs --no-resave-data GSEAmining StartedAt: 2025-10-03 01:32:19 -0000 (Fri, 03 Oct 2025) EndedAt: 2025-10-03 01:33:28 -0000 (Fri, 03 Oct 2025) EllapsedTime: 69.0 seconds RetCode: 0 Status: OK PackageFile: GSEAmining_1.18.0.tar.gz PackageFileSize: 2.652 MiB