Package: GSEAmining Version: 1.18.0 Command: /Library/Frameworks/R.framework/Resources/bin/R CMD build --keep-empty-dirs --no-resave-data GSEAmining StartedAt: 2025-10-14 01:50:38 -0400 (Tue, 14 Oct 2025) EndedAt: 2025-10-14 01:51:37 -0400 (Tue, 14 Oct 2025) EllapsedTime: 59.2 seconds RetCode: 0 Status: OK PackageFile: GSEAmining_1.18.0.tar.gz PackageFileSize: 2.838 MiB