Package: GSEAmining Version: 1.18.0 Command: rm -rf GSEAmining.buildbin-libdir && mkdir GSEAmining.buildbin-libdir && /Users/biocbuild/BBS/utils/build-universal.sh GSEAmining_1.18.0.tar.gz /Library/Frameworks/R.framework/Resources/bin/R GSEAmining.buildbin-libdir StartedAt: 2025-10-15 18:47:55 -0400 (Wed, 15 Oct 2025) EndedAt: 2025-10-15 18:48:08 -0400 (Wed, 15 Oct 2025) EllapsedTime: 12.4 seconds RetCode: 0 Status: OK PackageFile: GSEAmining_1.18.0.tgz PackageFileSize: 1.505 MiB