Package: GSEAlm Version: 1.70.0 Command: /home/biocbuild/bbs-3.22-bioc/R/bin/R CMD check --install=check:GSEAlm.install-out.txt --library=/home/biocbuild/bbs-3.22-bioc/R/site-library --timings GSEAlm_1.70.0.tar.gz StartedAt: 2025-11-15 00:26:02 -0500 (Sat, 15 Nov 2025) EndedAt: 2025-11-15 00:27:03 -0500 (Sat, 15 Nov 2025) EllapsedTime: 61.0 seconds RetCode: 0 Status: OK CheckDir: GSEAlm.Rcheck Warnings: 0