Package: GSEAlm Version: 1.70.0 Command: /Library/Frameworks/R.framework/Resources/bin/R CMD INSTALL GSEAlm StartedAt: 2025-11-03 15:20:01 -0500 (Mon, 03 Nov 2025) EndedAt: 2025-11-03 15:20:16 -0500 (Mon, 03 Nov 2025) EllapsedTime: 15.5 seconds RetCode: 0 Status: OK