Package: GSEAlm Version: 1.70.0 Command: rm -rf GSEAlm.buildbin-libdir && mkdir GSEAlm.buildbin-libdir && /Users/biocbuild/BBS/utils/build-universal.sh GSEAlm_1.70.0.tar.gz /Library/Frameworks/R.framework/Resources/bin/R GSEAlm.buildbin-libdir StartedAt: 2025-11-04 01:43:52 -0500 (Tue, 04 Nov 2025) EndedAt: 2025-11-04 01:43:59 -0500 (Tue, 04 Nov 2025) EllapsedTime: 7.0 seconds RetCode: 0 Status: OK PackageFile: GSEAlm_1.70.0.tgz PackageFileSize: 1.236 MiB