Package: GSEAlm Version: 1.68.0 Command: /home/biocbuild/R/R/bin/R CMD INSTALL GSEAlm StartedAt: 2025-10-13 20:25:14 -0000 (Mon, 13 Oct 2025) EndedAt: 2025-10-13 20:25:18 -0000 (Mon, 13 Oct 2025) EllapsedTime: 4.6 seconds RetCode: 0 Status: OK