Package: GSEAlm Version: 1.68.0 Command: /home/biocbuild/R/R/bin/R CMD build --keep-empty-dirs --no-resave-data GSEAlm StartedAt: 2025-10-14 01:30:02 -0000 (Tue, 14 Oct 2025) EndedAt: 2025-10-14 01:31:15 -0000 (Tue, 14 Oct 2025) EllapsedTime: 73.0 seconds RetCode: 0 Status: OK PackageFile: GSEAlm_1.68.0.tar.gz PackageFileSize: 1.232 MiB