Package: GSEAlm Version: 1.70.0 Command: /Library/Frameworks/R.framework/Resources/bin/R CMD INSTALL GSEAlm StartedAt: 2025-11-20 16:31:05 -0500 (Thu, 20 Nov 2025) EndedAt: 2025-11-20 16:31:08 -0500 (Thu, 20 Nov 2025) EllapsedTime: 3.5 seconds RetCode: 0 Status: OK