Package: GSEAlm Version: 1.70.0 Command: /Library/Frameworks/R.framework/Resources/bin/R CMD build --keep-empty-dirs --no-resave-data GSEAlm StartedAt: 2025-11-21 02:35:50 -0500 (Fri, 21 Nov 2025) EndedAt: 2025-11-21 02:36:41 -0500 (Fri, 21 Nov 2025) EllapsedTime: 50.7 seconds RetCode: 0 Status: OK PackageFile: GSEAlm_1.70.0.tar.gz PackageFileSize: 1.245 MiB