Package: GSEABenchmarkeR Version: 1.30.0 Command: /Library/Frameworks/R.framework/Resources/bin/R CMD INSTALL GSEABenchmarkeR StartedAt: 2025-11-03 15:31:49 -0500 (Mon, 03 Nov 2025) EndedAt: 2025-11-03 15:31:57 -0500 (Mon, 03 Nov 2025) EllapsedTime: 8.2 seconds RetCode: 0 Status: OK