Package: GSEABenchmarkeR Version: 1.30.0 Command: /Library/Frameworks/R.framework/Resources/bin/R CMD build --keep-empty-dirs --no-resave-data GSEABenchmarkeR StartedAt: 2025-11-03 16:37:49 -0500 (Mon, 03 Nov 2025) EndedAt: 2025-11-03 16:38:53 -0500 (Mon, 03 Nov 2025) EllapsedTime: 64.7 seconds RetCode: 0 Status: OK PackageFile: GSEABenchmarkeR_1.30.0.tar.gz PackageFileSize: 575.2 KiB