Package: GSEABenchmarkeR Version: 1.30.0 Command: rm -rf GSEABenchmarkeR.buildbin-libdir && mkdir GSEABenchmarkeR.buildbin-libdir && /Users/biocbuild/BBS/utils/build-universal.sh GSEABenchmarkeR_1.30.0.tar.gz /Library/Frameworks/R.framework/Resources/bin/R GSEABenchmarkeR.buildbin-libdir StartedAt: 2025-11-04 23:06:09 -0500 (Tue, 04 Nov 2025) EndedAt: 2025-11-04 23:06:18 -0500 (Tue, 04 Nov 2025) EllapsedTime: 9.2 seconds RetCode: 0 Status: OK PackageFile: GSEABenchmarkeR_1.30.0.tgz PackageFileSize: 682.8 KiB