Package: GSEABase Version: 1.72.0 Command: /home/biocbuild/bbs-3.22-bioc/R/bin/R CMD INSTALL GSEABase StartedAt: 2025-11-11 15:33:31 -0500 (Tue, 11 Nov 2025) EndedAt: 2025-11-11 15:33:51 -0500 (Tue, 11 Nov 2025) EllapsedTime: 19.4 seconds RetCode: 0 Status: OK