Package: GSEABase Version: 1.70.1 Command: /home/biocbuild/R/R/bin/R CMD INSTALL GSEABase StartedAt: 2025-10-13 20:43:55 -0000 (Mon, 13 Oct 2025) EndedAt: 2025-10-13 20:44:21 -0000 (Mon, 13 Oct 2025) EllapsedTime: 26.8 seconds RetCode: 0 Status: OK