Package: GSEABase Version: 1.70.1 Command: /home/biocbuild/R/R/bin/R CMD build --keep-empty-dirs --no-resave-data GSEABase StartedAt: 2025-10-14 01:29:41 -0000 (Tue, 14 Oct 2025) EndedAt: 2025-10-14 01:31:17 -0000 (Tue, 14 Oct 2025) EllapsedTime: 96.0 seconds RetCode: 0 Status: OK PackageFile: GSEABase_1.70.1.tar.gz PackageFileSize: 317.7 KiB