Package: GSEABase Version: 1.72.0 Command: /Library/Frameworks/R.framework/Resources/bin/R CMD INSTALL GSEABase StartedAt: 2025-10-30 15:09:31 -0400 (Thu, 30 Oct 2025) EndedAt: 2025-10-30 15:09:38 -0400 (Thu, 30 Oct 2025) EllapsedTime: 7.4 seconds RetCode: 0 Status: OK