Package: GSEABase Version: 1.72.0 Command: /Library/Frameworks/R.framework/Resources/bin/R CMD build --keep-empty-dirs --no-resave-data GSEABase StartedAt: 2025-10-30 16:37:31 -0400 (Thu, 30 Oct 2025) EndedAt: 2025-10-30 16:38:08 -0400 (Thu, 30 Oct 2025) EllapsedTime: 37.4 seconds RetCode: 0 Status: OK PackageFile: GSEABase_1.72.0.tar.gz PackageFileSize: 292.7 KiB