Package: GSEABase Version: 1.72.0 Command: rm -rf GSEABase.buildbin-libdir && mkdir GSEABase.buildbin-libdir && /Users/biocbuild/BBS/utils/build-universal.sh GSEABase_1.72.0.tar.gz /Library/Frameworks/R.framework/Resources/bin/R GSEABase.buildbin-libdir StartedAt: 2025-10-30 23:03:14 -0400 (Thu, 30 Oct 2025) EndedAt: 2025-10-30 23:03:22 -0400 (Thu, 30 Oct 2025) EllapsedTime: 8.2 seconds RetCode: 0 Status: OK PackageFile: GSEABase_1.72.0.tgz PackageFileSize: 1.004 MiB