Package: GSCA Version: 2.40.0 Command: /home/biocbuild/R/R/bin/R CMD INSTALL GSCA StartedAt: 2025-11-20 21:53:53 -0000 (Thu, 20 Nov 2025) EndedAt: 2025-11-20 21:54:45 -0000 (Thu, 20 Nov 2025) EllapsedTime: 52.4 seconds RetCode: 0 Status: OK