Package: GSCA Version: 2.40.0 Command: /home/biocbuild/R/R/bin/R CMD build --keep-empty-dirs --no-resave-data GSCA StartedAt: 2025-11-21 03:01:24 -0000 (Fri, 21 Nov 2025) EndedAt: 2025-11-21 03:01:58 -0000 (Fri, 21 Nov 2025) EllapsedTime: 34.1 seconds RetCode: 0 Status: OK PackageFile: GSCA_2.40.0.tar.gz PackageFileSize: 2.283 MiB