Package: GSCA Version: 2.40.0 Command: /home/biocbuild/bbs-3.22-bioc/R/bin/R CMD INSTALL GSCA StartedAt: 2025-11-11 15:12:16 -0500 (Tue, 11 Nov 2025) EndedAt: 2025-11-11 15:12:50 -0500 (Tue, 11 Nov 2025) EllapsedTime: 34.0 seconds RetCode: 0 Status: OK