Package: GSCA Version: 2.40.0 Command: /home/biocbuild/bbs-3.22-bioc/R/bin/R CMD check --install=check:GSCA.install-out.txt --library=/home/biocbuild/bbs-3.22-bioc/R/site-library --timings GSCA_2.40.0.tar.gz StartedAt: 2025-11-12 00:18:29 -0500 (Wed, 12 Nov 2025) EndedAt: 2025-11-12 00:21:23 -0500 (Wed, 12 Nov 2025) EllapsedTime: 174.1 seconds RetCode: 0 Status: OK CheckDir: GSCA.Rcheck Warnings: 0