Package: GSCA Version: 2.40.0 Command: /home/biocbuild/bbs-3.22-bioc/R/bin/R CMD build --keep-empty-dirs --no-resave-data --md5 GSCA StartedAt: 2025-11-11 18:05:56 -0500 (Tue, 11 Nov 2025) EndedAt: 2025-11-11 18:06:13 -0500 (Tue, 11 Nov 2025) EllapsedTime: 17.0 seconds RetCode: 0 Status: OK PackageFile: GSCA_2.40.0.tar.gz PackageFileSize: 2.289 MiB