Package: GSCA Version: 2.38.0 Command: /home/biocbuild/bbs-3.21-bioc/R/bin/R CMD INSTALL GSCA StartedAt: 2025-10-15 15:07:34 -0400 (Wed, 15 Oct 2025) EndedAt: 2025-10-15 15:08:06 -0400 (Wed, 15 Oct 2025) EllapsedTime: 31.9 seconds RetCode: 0 Status: OK