Package: GSCA Version: 2.38.0 Command: /home/biocbuild/bbs-3.21-bioc/R/bin/R CMD build --keep-empty-dirs --no-resave-data GSCA StartedAt: 2025-10-15 17:52:26 -0400 (Wed, 15 Oct 2025) EndedAt: 2025-10-15 17:52:44 -0400 (Wed, 15 Oct 2025) EllapsedTime: 18.0 seconds RetCode: 0 Status: OK PackageFile: GSCA_2.38.0.tar.gz PackageFileSize: 2.288 MiB