Package: GSCA Version: 2.38.0 Command: /Library/Frameworks/R.framework/Resources/bin/R CMD INSTALL GSCA StartedAt: 2025-10-13 15:21:45 -0400 (Mon, 13 Oct 2025) EndedAt: 2025-10-13 15:22:10 -0400 (Mon, 13 Oct 2025) EllapsedTime: 25.3 seconds RetCode: 0 Status: OK