Package: GSCA Version: 2.38.0 Command: /Library/Frameworks/R.framework/Resources/bin/R CMD build --keep-empty-dirs --no-resave-data GSCA StartedAt: 2025-10-14 01:46:52 -0400 (Tue, 14 Oct 2025) EndedAt: 2025-10-14 01:47:18 -0400 (Tue, 14 Oct 2025) EllapsedTime: 26.3 seconds RetCode: 0 Status: OK PackageFile: GSCA_2.38.0.tar.gz PackageFileSize: 2.288 MiB