Package: GSCA Version: 2.40.0 Maintainer: Zhicheng Ji MaintainerEmail: zji4 at jhu.edu git_url: https://git.bioconductor.org/packages/GSCA git_branch: RELEASE_3_22 git_last_commit: 0731439 git_last_commit_date: 2025-10-29 10:18:05 -0400 (Wed, 29 Oct 2025)