Package: GSAR Version: 1.44.0 Command: /home/biocbuild/bbs-3.22-bioc/R/bin/R CMD build --keep-empty-dirs --no-resave-data --md5 GSAR StartedAt: 2025-11-11 18:05:46 -0500 (Tue, 11 Nov 2025) EndedAt: 2025-11-11 18:10:36 -0500 (Tue, 11 Nov 2025) EllapsedTime: 290.3 seconds RetCode: 0 Status: OK PackageFile: GSAR_1.44.0.tar.gz PackageFileSize: 1.779 MiB