Package: GSAR Version: 1.44.0 Command: rm -rf GSAR.buildbin-libdir && mkdir GSAR.buildbin-libdir && /Users/biocbuild/BBS/utils/build-universal.sh GSAR_1.44.0.tar.gz /Library/Frameworks/R.framework/Resources/bin/R GSAR.buildbin-libdir StartedAt: 2025-10-31 23:09:32 -0400 (Fri, 31 Oct 2025) EndedAt: 2025-10-31 23:09:35 -0400 (Fri, 31 Oct 2025) EllapsedTime: 3.1 seconds RetCode: 0 Status: OK PackageFile: GSAR_1.44.0.tgz PackageFileSize: 3.48 MiB