Package: GSALightning Version: 1.38.0 Command: /home/biocbuild/bbs-3.22-bioc/R/bin/R CMD check --install=check:GSALightning.install-out.txt --library=/home/biocbuild/bbs-3.22-bioc/R/site-library --timings GSALightning_1.38.0.tar.gz StartedAt: 2025-11-14 00:22:58 -0500 (Fri, 14 Nov 2025) EndedAt: 2025-11-14 00:24:33 -0500 (Fri, 14 Nov 2025) EllapsedTime: 95.1 seconds RetCode: 0 Status: OK CheckDir: GSALightning.Rcheck Warnings: 0