Package: GSALightning Version: 1.38.0 Command: /home/biocbuild/bbs-3.22-bioc/R/bin/R CMD build --keep-empty-dirs --no-resave-data --md5 GSALightning StartedAt: 2025-11-11 18:05:38 -0500 (Tue, 11 Nov 2025) EndedAt: 2025-11-11 18:06:37 -0500 (Tue, 11 Nov 2025) EllapsedTime: 59.0 seconds RetCode: 0 Status: OK PackageFile: GSALightning_1.38.0.tar.gz PackageFileSize: 4.258 MiB