Package: GSALightning Version: 1.36.0 Command: /home/biocbuild/bbs-3.21-bioc/R/bin/R CMD INSTALL GSALightning StartedAt: 2025-10-15 15:04:44 -0400 (Wed, 15 Oct 2025) EndedAt: 2025-10-15 15:04:48 -0400 (Wed, 15 Oct 2025) EllapsedTime: 4.8 seconds RetCode: 0 Status: OK