Package: GSALightning Version: 1.36.0 Command: /home/biocbuild/bbs-3.21-bioc/R/bin/R CMD build --keep-empty-dirs --no-resave-data GSALightning StartedAt: 2025-10-15 17:52:12 -0400 (Wed, 15 Oct 2025) EndedAt: 2025-10-15 17:53:12 -0400 (Wed, 15 Oct 2025) EllapsedTime: 60.1 seconds RetCode: 0 Status: OK PackageFile: GSALightning_1.36.0.tar.gz PackageFileSize: 4.258 MiB