Package: GSALightning Version: 1.36.0 Command: /home/biocbuild/R/R/bin/R CMD build --keep-empty-dirs --no-resave-data GSALightning StartedAt: 2025-10-03 01:31:36 -0000 (Fri, 03 Oct 2025) EndedAt: 2025-10-03 01:33:33 -0000 (Fri, 03 Oct 2025) EllapsedTime: 117.0 seconds RetCode: 0 Status: OK PackageFile: GSALightning_1.36.0.tar.gz PackageFileSize: 4.252 MiB