Package: GSALightning Version: 1.36.0 Command: rm -rf GSALightning.buildbin-libdir && mkdir GSALightning.buildbin-libdir && /Users/biocbuild/BBS/utils/build-universal.sh GSALightning_1.36.0.tar.gz /Library/Frameworks/R.framework/Resources/bin/R GSALightning.buildbin-libdir StartedAt: 2025-10-15 18:47:22 -0400 (Wed, 15 Oct 2025) EndedAt: 2025-10-15 18:47:31 -0400 (Wed, 15 Oct 2025) EllapsedTime: 8.8 seconds RetCode: 0 Status: OK PackageFile: GSALightning_1.36.0.tgz PackageFileSize: 4.307 MiB